Workbook

Sheet １枚目
A1: 様式⑥
A2: 令 和 ８年 麻 薬 小 売 業 者 の 届
A4: （宛先） 大田区保健所長
A5: =TODAY() -> 46266
A6: 免許証の番号 | B6: 保生薬第 | E6: 号
A7: 開設者名
A8: 代表取締役
A9: 麻薬業務所の所在地 | C9: 大田区
A10: 麻薬業務所の名称
A11: 電話
A13: 品 名 | B13: 単位 | C13: 令和７年 10月１日 現在 麻薬 所有数量 | D13: 令和７年10月１日 から 令和８年９月30日 までの譲受及び譲渡麻薬 | F13: 令和８年 ９月30日 現在 麻薬 所有数量 | H13: 備 考
G14: 麻薬 廃棄数 事故届出数 帳簿訂正数
D15: 譲受 麻薬 数量 | E15: 譲渡 麻薬 数量
F16: =C16+D16-E16-G16 -> 0
F17: =C17+D17-E17-G17 -> 0
F18: =C18+D18-E18-G18 -> 0
F19: =C19+D19-E19-G19 -> 0
F20: =C20+D20-E20-G20 -> 0
F21: =C21+D21-E21-G21 -> 0
F22: =C22+D22-E22-G22 -> 0
F23: =C23+D23-E23-G23 -> 0
F24: =C24+D24-E24-G24 -> 0
F25: =C25+D25-E25-G25 -> 0
F26: =C26+D26-E26-G26 -> 0
F27: =C27+D27-E27-G27 -> 0
... F29: =C29+D29-E29-G29 -> 0
A31: （注意事項）
A32: 「品名」欄は、略名を使用しないで下さい。また、原末から倍散、倍液を調整したときは。剤型・濃度別に記入して下さい。
A33: 「単位」欄は、末・散…g 注射液…A 錠剤…Ｔ 坐剤…個 液…mL カプセル…cp 分包…包 貼付剤…枚とします。
A34: 「備考」欄は、
A35: （イ）「麻薬廃棄届」により廃棄した麻薬の数量及び届出年月日
A36: （ロ）「麻薬事故届」により届け出た麻薬の数量
A37: （ハ）その他（帳簿訂正により処理した数量等）について記入して下さい。

Sheet ２枚目
A1: 様式⑥
A2: ='１枚目'!A2:H2 -> 令 和 ８年 麻 薬 小 売 業 者 の 届
A4: （宛先） 大田区保健所長
A5: =TODAY() -> 46266
A6: 免許証の番号 | B6: 保生薬第 | D6: ='１枚目'!D6 -> 0 | E6: 号
A7: 開設者名 | C7: ='１枚目'!C7:H7 -> 0
A8: 代表取締役 | C8: ='１枚目'!C8:H8 -> 0
A9: 麻薬業務所の所在地 | C9: 大田区 | D9: ='１枚目'!D9:H9 -> 0
A10: 麻薬業務所の名称 | C10: ='１枚目'!C10:H10 -> 0
A11: 電話 | C11: ='１枚目'!C11:H11 -> 0
A13: 品 名 | B13: 単位 | C13: ='１枚目'!C13:C15 -> 令和７年 10月１日 現在 麻薬 所有数量 | D13: ='１枚目'!D13:E14 -> 令和７年10月１日 から 令和８年９月30日 までの譲受及び譲渡麻薬 | F13: ='１枚目'!F13:F15 -> 令和８年 ９月30日 現在 麻薬 所有数量 | H13: 備 考
G14: 麻薬 廃棄数 事故届出数 帳簿訂正数
D15: 譲受 麻薬 数量 | E15: 譲渡 麻薬 数量
F16: =C16+D16-E16-G16 -> 0
F17: =C17+D17-E17-G17 -> 0
F18: =C18+D18-E18-G18 -> 0
F19: =C19+D19-E19-G19 -> 0
F20: =C20+D20-E20-G20 -> 0
F21: =C21+D21-E21-G21 -> 0
F22: =C22+D22-E22-G22 -> 0
F23: =C23+D23-E23-G23 -> 0
F24: =C24+D24-E24-G24 -> 0
F25: =C25+D25-E25-G25 -> 0
F26: =C26+D26-E26-G26 -> 0
F27: =C27+D27-E27-G27 -> 0
... F29: =C29+D29-E29-G29 -> 0
A31: （注意事項）
A32: 「品名」欄は、略名を使用しないで下さい。また、原末から倍散、倍液を調整したときは。剤型・濃度別に記入して下さい。
A33: 「単位」欄は、末・散…g 注射液…A 錠剤…Ｔ 坐剤…個 液…mL カプセル…cp 分包…包 貼付剤…枚とします。
A34: 「備考」欄は、
A35: （イ）「麻薬廃棄届」により廃棄した麻薬の数量及び届出年月日
A36: （ロ）「麻薬事故届」により届け出た麻薬の数量
A37: （ハ）その他（帳簿訂正により処理した数量等）について記入して下さい。

Sheet ３枚目
A1: 様式⑥
A2: ='１枚目'!A2:H2 -> 令 和 ８年 麻 薬 小 売 業 者 の 届
A4: （宛先） 大田区保健所長
A5: =TODAY() -> 46266
A6: 免許証の番号 | B6: 保生薬第 | D6: ='１枚目'!D6 -> 0 | E6: 号
A7: 開設者名 | C7: ='１枚目'!C7:H7 -> 0
A8: 代表取締役 | C8: ='１枚目'!C8:H8 -> 0
A9: 麻薬業務所の所在地 | C9: 大田区 | D9: ='１枚目'!D9:H9 -> 0
A10: 麻薬業務所の名称 | C10: ='１枚目'!C10:H10 -> 0
A11: 電話 | C11: ='１枚目'!C11:H11 -> 0
A13: 品 名 | B13: 単位 | C13: ='１枚目'!C13:C15 -> 令和７年 10月１日 現在 麻薬 所有数量 | D13: ='１枚目'!D13:E14 -> 令和７年10月１日 から 令和８年９月30日 までの譲受及び譲渡麻薬 | F13: ='１枚目'!F13:F15 -> 令和８年 ９月30日 現在 麻薬 所有数量 | H13: 備 考
G14: 麻薬 廃棄数 事故届出数 帳簿訂正数
D15: 譲受 麻薬 数量 | E15: 譲渡 麻薬 数量
F16: =C16+D16-E16-G16 -> 0
F17: =C17+D17-E17-G17 -> 0
F18: =C18+D18-E18-G18 -> 0
F19: =C19+D19-E19-G19 -> 0
F20: =C20+D20-E20-G20 -> 0
F21: =C21+D21-E21-G21 -> 0
F22: =C22+D22-E22-G22 -> 0
F23: =C23+D23-E23-G23 -> 0
F24: =C24+D24-E24-G24 -> 0
F25: =C25+D25-E25-G25 -> 0
F26: =C26+D26-E26-G26 -> 0
F27: =C27+D27-E27-G27 -> 0
... F29: =C29+D29-E29-G29 -> 0
A31: （注意事項）
A32: 「品名」欄は、略名を使用しないで下さい。また、原末から倍散、倍液を調整したときは。剤型・濃度別に記入して下さい。
A33: 「単位」欄は、末・散…g 注射液…A 錠剤…Ｔ 坐剤…個 液…mL カプセル…cp 分包…包 貼付剤…枚とします。
A34: 「備考」欄は、
A35: （イ）「麻薬廃棄届」により廃棄した麻薬の数量及び届出年月日
A36: （ロ）「麻薬事故届」により届け出た麻薬の数量
A37: （ハ）その他（帳簿訂正により処理した数量等）について記入して下さい。

Sheet 記載例
A1: 様式⑥
A2: ='１枚目'!A2:H2 -> 令 和 ８年 麻 薬 小 売 業 者 の 届
A4: （宛先） 大田区保健所長
A5: =TODAY() -> 46266
A6: 免許証の番号 | B6: 保生薬第 | D6: 123 | E6: 号
A7: 開設者名 | C7: 株式会社大田区薬局
A8: 代表取締役 | C8: 大森かまた
A9: 麻薬業務所の所在地 | C9: 大田区 | D9: 大森西1-12-1
A10: 麻薬業務所の名称 | C10: 大田区保健薬局
A11: 電話 | C11: 03（5764）0692
A13: 品 名 | B13: 単位 | C13: ='１枚目'!C13:C15 -> 令和７年 10月１日 現在 麻薬 所有数量 | D13: ='１枚目'!D13:E14 -> 令和７年10月１日 から 令和８年９月30日 までの譲受及び譲渡麻薬 | F13: ='１枚目'!F13:F15 -> 令和８年 ９月30日 現在 麻薬 所有数量 | H13: 備 考
G14: 麻薬 廃棄数 事故届出数 帳簿訂正数
D15: 譲受 麻薬 数量 | E15: 譲渡 麻薬 数量
A16: 塩酸モルヒネ | B16: g | C16: 2 | D16: 0 | E16: 0 | F16: =C16+D16-E16-G16 -> 0 | G16: 2 | H16: 令和６年７月７日 ２ｇ廃棄
A17: 塩酸モルヒネ注射剤10mg | B17: A | C17: 1 | D17: 10 | E17: 7 | F17: =C17+D17-E17-G17 -> 3 | G17: 1 | H17: １Ａ破損
A18: リン酸コデイン末 | B18: g | C18: 5 | D18: 50 | E18: 30 | F18: =C18+D18-E18-G18 -> 25 | H18: ３０ｇ １０％酸に予製
A19: 10%リン酸コデイン末 | B19: g | C19: 10 | D19: 300 | E19: 290 | F19: =C19+D19-E19-G19 -> 20 | H19: ３００ｇ 原末から予製
A20: アヘンチンキ | B20: mL | C20: 7 | D20: 50 | E20: 47.5 | F20: =C20+D20-E20-G20 -> 7.5 | G20: 2 | H20: -２ｍＬ 帳簿訂正
F21: =C21+D21-E21-G21 -> 0
F22: =C22+D22-E22-G22 -> 0
F23: =C23+D23-E23-G23 -> 0
F24: =C24+D24-E24-G24 -> 0
F25: =C25+D25-E25-G25 -> 0
F26: =C26+D26-E26-G26 -> 0
F27: =C27+D27-E27-G27 -> 0
F28: =C28+D28-E28-G28 -> 0
F29: =C29+D29-E29-G29 -> 0
A31: （注意事項）
A32: 「品名」欄は、略名を使用しないで下さい。また、原末から倍散、倍液を調整したときは。剤型・濃度別に記入して下さい。
A33: 「単位」欄は、末・散…g 注射液…A 錠剤…Ｔ 坐剤…個 液…mL カプセル…cp 分包…包 貼付剤…枚とします。
A34: 「備考」欄は、
A35: （イ）「麻薬廃棄届」により廃棄した麻薬の数量及び届出年月日
A36: （ロ）「麻薬事故届」により届け出た麻薬の数量
A37: （ハ）その他（帳簿訂正により処理した数量等）について記入して下さい。
